BEGIN:VCALENDAR
VERSION:2.0
PRODID:-//ChamberMaster//Event Calendar 2.0//EN
METHOD:PUBLISH
X-PUBLISHED-TTL:P3D
REFRESH-INTERVAL:P3D
CALSCALE:GREGORIAN
BEGIN:VEVENT
DTSTART:20260521T163000Z
DTEND:20260521T180000Z
X-MICROSOFT-CDO-ALLDAYEVENT:FALSE
SUMMARY:2026 Leadership Lunch @ Location TBD\, Speaker: TBD
DESCRIPTION:Mark your calendar to join The Colony Chamber of Commerce monthly for our leadership lunch.  The lunches are held on the third Thursday of the month at various locations.  Each month we highlight a student and teacher sponsored by DATCU.  An exceptional student is also highlighted by Platinum Auto Glass.  You will also receive updates from the Chamber\, City and LISD.  Every month we have a topic of interest to business.  \n\n\n\nMAY PROGRAM: SPONSORSHIP AVAILABLE\n\n\n\nEVENT VENUE SPONSOR: TBD
X-ALT-DESC;FMTTYPE=text/html:<p><span style="font-family:arial\;">Mark your calendar to join The Colony Chamber of Commerce monthly for our leadership lunch.&nbsp\; The lunches are held on the third Thursday of the month at various locations.&nbsp\; Each month we highlight a student and teacher sponsored by DATCU.&nbsp\; An exceptional student is also highlighted by Platinum Auto Glass.&nbsp\;&nbsp\;You will also receive updates from the Chamber\, City and LISD.&nbsp\;&nbsp\;Every month we have a topic of interest to business.&nbsp\;&nbsp\;</span><br />\n<br />\n<span style="font-size:12px\;"><b>MAY PROGRAM:&nbsp\;</b></span><span style="font-size:12px\;"><strong>SPONSORSHIP AVAILABLE</strong><br />\n<br />\n<b>EVENT VENUE SPONSOR:</b></span>&nbsp\;TBD</p>\n
LOCATION:Locations for lunches vary. If you would like to host a chamber lunch\, please reach out to the office @ info@thecolonychamber.org or 469-404-4988. LOCATION TBD The Colony TX 75056
UID:e.3524.10193
SEQUENCE:3
DTSTAMP:20260421T163628Z
URL:https://business.thecolonychamber.com/events/details/2026-leadership-lunch-location-tbd-speaker-tbd-10193
END:VEVENT

END:VCALENDAR
