BEGIN:VCALENDAR
VERSION:2.0
PRODID:-//ChamberMaster//Event Calendar 2.0//EN
METHOD:PUBLISH
X-PUBLISHED-TTL:P3D
REFRESH-INTERVAL:P3D
CALSCALE:GREGORIAN
BEGIN:VEVENT
DTSTART:20210505T124500Z
DTEND:20210505T140000Z
X-MICROSOFT-CDO-ALLDAYEVENT:FALSE
SUMMARY:Business & Breakfast hosted by Hard Eight BBQ
DESCRIPTION:Kick off the first Wednesday of May with us! Join us at Business and Breakfast hosted by Hard Eight BBQ and join Randolph Brooks Federal Credit Union in honoring first responders from The Colony.\n\n\n\nInformation to know:\n\n	Breakfast will be available between 7:40-8:00 a.m.\n	Our program will start at 8:00 a.m. and include \n	\n		Honoring First Responders\n		Updates from the City of The Colony and Lewisville ISD\n		Chamber and Member News\n		Networking starting at 8:45 a.m.
X-ALT-DESC;FMTTYPE=text/html:<br />\n<span style="font-size:18px\;"><em>Kick off the first Wednesday of May with us! Join us at Business and Breakfast hosted by Hard Eight BBQ and join Randolph Brooks Federal Credit Union in honoring first responders from The Colony.</em><br />\n<br />\n<span style="color: rgb(51\, 51\, 51)\;">Information to know:</span></span>\n<ul style="padding: 0px 40px\; color: rgb(51\, 51\, 51)\; font-family: sans-serif\, Arial\, Verdana\, &quot\;Trebuchet MS&quot\;\; font-size: 13px\;">\n	<li><span style="font-size:18px\;">Breakfast will be available between 7:40-8:00 a.m.</span></li>\n	<li><span style="font-size:18px\;">Our program will start at 8:00 a.m. and include&nbsp\;</span>\n	<ul style="padding: 0px 40px\;">\n		<li><span style="font-size:18px\;">Honoring First Responders</span></li>\n		<li><span style="font-size:18px\;">Updates from the City of The Colony and Lewisville ISD</span></li>\n		<li><span style="font-size:18px\;">Chamber and Member News</span></li>\n		<li><span style="font-size:18px\;">Networking starting at 8:45 a.m.</span></li>\n	</ul>\n	</li>\n</ul>\n<br />\n&nbsp\;
LOCATION:
UID:e.3524.499
SEQUENCE:3
DTSTAMP:20260425T015838Z
URL:https://business.thecolonychamber.com/events/details/business-breakfast-hosted-by-hard-eight-bbq-05-05-2021-499
END:VEVENT

END:VCALENDAR
