BEGIN:VCALENDAR
VERSION:2.0
PRODID:-//ChamberMaster//Event Calendar 2.0//EN
METHOD:PUBLISH
X-PUBLISHED-TTL:P3D
REFRESH-INTERVAL:P3D
CALSCALE:GREGORIAN
BEGIN:VEVENT
DTSTART:20260520T170000Z
DTEND:20260520T180000Z
X-MICROSOFT-CDO-ALLDAYEVENT:FALSE
SUMMARY:Lunch & Learn @ The Colony Library: A Presentation on the Maxwell DISC Method
DESCRIPTION:Join us for The Communication Sandbox\, an engaging presentation on the Maxwell DISC Method designed to help you better understand how you communicate and how others receive information.\n\nDISC is a behavioral tool that identifies different communication styles and provides practical insight into how to adapt your approach for more effective interactions. Whether you are leading a team\, working with clients\, or building relationships in the community\, this session will give you tools you can use immediately.\n\nThis is a great opportunity for local business professionals\, leaders\, and team members who want to strengthen communication\, reduce misunderstandings\, and improve day-to-day collaboration.\n\nEvent Details\n\nLocation: The Colony Public Library\n\n6800 Main Street\, The Colony\, TX 75056\n\nRegistration is required and opens on May 4th @ 10AM:  REGISTER HERE\n \n\nWe look forward to seeing you there.
X-ALT-DESC;FMTTYPE=text/html:<h2 data-end="261" data-start="74"><span style="font-family:arial\;"><span style="font-size:16px\;">Join us for <em data-end="113" data-start="86">The Communication Sandbox</em>\, an engaging presentation on the Maxwell DISC Method designed to help you better understand how you communicate and how others receive information.</span></span></h2>\n\n<h2 data-end="587" data-start="263"><span style="font-family:arial\;"><span style="font-size:16px\;">DISC is a behavioral tool that identifies different communication styles and provides practical insight into how to adapt your approach for more effective interactions. Whether you are leading a team\, working with clients\, or building relationships in the community\, this session will give you tools you can use immediately.</span></span></h2>\n\n<h2 data-end="778" data-start="589"><span style="font-family:arial\;"><span style="font-size:16px\;">This is a great opportunity for local business professionals\, leaders\, and team members who want to strengthen communication\, reduce misunderstandings\, and improve day-to-day collaboration.</span></span></h2>\n\n<h2 data-end="878" data-start="780"><span style="font-family:arial\;"><span style="font-size:16px\;"><strong data-end="797" data-start="780">Event Details</strong><br data-end="800" data-start="797" />\nLocation: The Colony Public Library<br data-end="838" data-start="835" />\n6800 Main Street\, The Colony\, TX 75056</span></span></h2>\n\n<h2 data-end="931" data-start="880"><span style="font-family:arial\;"><span style="font-size:16px\;"><u><span style="color:#000000\;"><strong data-end="909" data-start="880">Registration is required and opens on May 4th @ 10AM:</strong></span></u><span style="color:#0000FF\;">&nbsp\;</span><b><span style="color:#0000FF\;">&nbsp\;</span><a href="https://business.thecolonychamber.com/events/details/lunch-learn-the-colony-library-a-presentation-on-the-maxwell-disc-method-10233"><span style="color:#0000FF\;">REGISTER HERE</span></a></b></span></span></h2>\n&nbsp\;\n\n<h2 data-end="969" data-is-last-node="" data-is-only-node="" data-start="933"><span style="font-family:arial\;"><span style="font-size:16px\;">We look forward to seeing you there.</span></span></h2>\n
LOCATION:Location: The Colony Public Library 6800 Main Street\, The Colony\, TX 75056
UID:e.3524.10233
SEQUENCE:3
DTSTAMP:20260423T191436Z
URL:https://business.thecolonychamber.com/events/details/lunch-learn-the-colony-library-a-presentation-on-the-maxwell-disc-method-10233
END:VEVENT

END:VCALENDAR
