BEGIN:VCALENDAR
VERSION:2.0
PRODID:-//ChamberMaster//Event Calendar 2.0//EN
METHOD:PUBLISH
X-PUBLISHED-TTL:P3D
REFRESH-INTERVAL:P3D
CALSCALE:GREGORIAN
BEGIN:VEVENT
DTSTART:20210513T220000Z
DTEND:20210513T233000Z
X-MICROSOFT-CDO-ALLDAYEVENT:FALSE
SUMMARY:Prospective Member Reception
DESCRIPTION:Prospective Member Reception hosted by Venture X-The Realm at Castle Hills and sponsored by Zuwa Tax Consulting\n\n\n\n\n\nThe Colony Chamber is welcoming new members! If you are a current member\, please invite prospective members to join us and learn how we can support their company.\n\n\n\n\n\nIf you are prospective member\, we would love to share the benefit of membership with you. You should attend?\n\n	IF you are a business or know of a business that is currently not a member of The Colony Chamber of Commerce.\n	IF you are looking to grow your business or expand your presence in the community and/or on social media. \n	IF you would like to be part of an organization that will work for you.\n	IF you are a for profit business or a not-for-profit business\, we serve both.\n	IF you would like to expand your network by connecting with other like-minded businesses.\n	IF you are a single proprietor or employ hundreds of people.\n\n\nSpend one hour and see how The Colony Chamber of Commerce can help YOU!
X-ALT-DESC;FMTTYPE=text/html:<div style="font-size: 16px\;"><br />\n<span style="font-size:18px\;"><span style="font-family:arial\;"><span style="font-size:24px\;"><strong><span style="color:#000000\;">Prospective Member Reception hosted by </span><a href="https://venturex.com/locations/texas/the-realm-at-castle-hills/"><span style="color:#000000\;">Venture X-The Realm at Castle Hills</span></a><span style="color:#000000\;"> and sponsored by </span><a href="https://zuwataxconsulting.com/"><span style="color:#000000\;">Zuwa Tax Consulting</span></a></strong></span><br />\n<br />\n<br />\n<span style="color:#000000\;">The Colony Chamber is welcoming new members! If you are a current member\, please invite prospective members to join us and learn how we can support their company.<br />\n<br />\n<br />\nIf you are prospective member\, we would love to share the benefit of membership with you. You should attend?</span></span></span>\n<ul>\n	<li><span style="color:#000000\;"><span style="font-family:arial\;"><span style="font-size:18px\;">IF you are a business or know of a business that is currently not a member of The Colony Chamber of Commerce.</span></span></span></li>\n	<li><span style="color:#000000\;"><span style="font-family:arial\;"><span style="font-size:18px\;">IF you are looking to grow your business or expand your presence in the community and/or on social media.&nbsp\;</span></span></span></li>\n	<li><span style="color:#000000\;"><span style="font-family:arial\;"><span style="font-size:18px\;">IF you would like to be part of an organization that will work for you.</span></span></span></li>\n	<li><span style="color:#000000\;"><span style="font-family:arial\;"><span style="font-size:18px\;">IF you are a for profit business or a not-for-profit business\, we serve both.</span></span></span></li>\n	<li><span style="color:#000000\;"><span style="font-family:arial\;"><span style="font-size:18px\;">IF you would like to expand your network by connecting with other like-minded businesses.</span></span></span></li>\n	<li><span style="color:#000000\;"><span style="font-family:arial\;"><span style="font-size:18px\;">IF you are a single proprietor or employ hundreds of people.</span></span></span></li>\n</ul>\n\n<p><span style="color:#000000\;"><span style="font-family:arial\;"><span style="font-size:18px\;">Spend one hour and see how The Colony Chamber of Commerce can help YOU!</span></span></span></p>\n</div>\n\n<div style="font-size: 16px\;">&nbsp\;</div>\n
LOCATION:Venture X The Realm 4400 State Hwy 121 Suite 300
UID:e.3524.529
SEQUENCE:3
DTSTAMP:20260419T141325Z
URL:https://business.thecolonychamber.com/events/details/prospective-member-reception-529
END:VEVENT

END:VCALENDAR
